Package: pasilla Version: 1.38.0 Command: /home/biocbuild/bbs-3.22-bioc/R/bin/R CMD build --keep-empty-dirs --no-resave-data pasilla StartedAt: 2025-11-06 11:34:44 -0500 (Thu, 06 Nov 2025) EndedAt: 2025-11-06 11:35:40 -0500 (Thu, 06 Nov 2025) EllapsedTime: 56.6 seconds RetCode: 0 Status: OK PackageFile: pasilla_1.38.0.tar.gz PackageFileSize: 3.151 MiB