Package: pasilla Version: 1.36.0 Command: /home/biocbuild/bbs-3.21-bioc/R/bin/R CMD INSTALL pasilla StartedAt: 2025-10-16 11:02:07 -0400 (Thu, 16 Oct 2025) EndedAt: 2025-10-16 11:02:38 -0400 (Thu, 16 Oct 2025) EllapsedTime: 31.8 seconds RetCode: 0 Status: OK