Package: pRolocdata Version: 1.48.0 Command: /home/biocbuild/bbs-3.22-bioc/R/bin/R CMD build --keep-empty-dirs --no-resave-data pRolocdata StartedAt: 2025-11-27 11:37:40 -0500 (Thu, 27 Nov 2025) EndedAt: 2025-11-27 11:38:21 -0500 (Thu, 27 Nov 2025) EllapsedTime: 41.0 seconds RetCode: 0 Status: OK PackageFile: pRolocdata_1.48.0.tar.gz PackageFileSize: 191.1 MiB