Package: orthosData Version: 1.8.0 Command: /home/biocbuild/bbs-3.22-bioc/R/bin/R CMD INSTALL orthosData StartedAt: 2025-11-06 10:58:29 -0500 (Thu, 06 Nov 2025) EndedAt: 2025-11-06 10:58:58 -0500 (Thu, 06 Nov 2025) EllapsedTime: 28.2 seconds RetCode: 0 Status: OK