Package: orthosData Version: 1.8.0 Command: /home/biocbuild/bbs-3.22-bioc/R/bin/R CMD build --keep-empty-dirs --no-resave-data orthosData StartedAt: 2025-11-06 11:34:37 -0500 (Thu, 06 Nov 2025) EndedAt: 2025-11-06 11:35:17 -0500 (Thu, 06 Nov 2025) EllapsedTime: 39.8 seconds RetCode: 0 Status: OK PackageFile: orthosData_1.8.0.tar.gz PackageFileSize: 311.9 KiB