Package: octad.db Version: 1.12.0 Command: /home/biocbuild/bbs-3.22-bioc/R/bin/R CMD INSTALL octad.db StartedAt: 2025-11-06 10:56:59 -0500 (Thu, 06 Nov 2025) EndedAt: 2025-11-06 10:57:13 -0500 (Thu, 06 Nov 2025) EllapsedTime: 13.4 seconds RetCode: 0 Status: OK