Package: octad.db Version: 1.10.0 Command: /home/biocbuild/bbs-3.21-bioc/R/bin/R CMD INSTALL octad.db StartedAt: 2025-09-30 10:57:09 -0400 (Tue, 30 Sep 2025) EndedAt: 2025-09-30 10:57:23 -0400 (Tue, 30 Sep 2025) EllapsedTime: 13.4 seconds RetCode: 0 Status: OK