Package: nullrangesData Version: 1.16.0 Command: /home/biocbuild/bbs-3.22-bioc/R/bin/R CMD INSTALL nullrangesData StartedAt: 2025-11-06 10:58:11 -0500 (Thu, 06 Nov 2025) EndedAt: 2025-11-06 10:58:40 -0500 (Thu, 06 Nov 2025) EllapsedTime: 29.2 seconds RetCode: 0 Status: OK