Package: nullrangesData Version: 1.16.0 Command: /home/biocbuild/bbs-3.22-bioc/R/bin/R CMD build --keep-empty-dirs --no-resave-data nullrangesData StartedAt: 2025-11-06 11:33:51 -0500 (Thu, 06 Nov 2025) EndedAt: 2025-11-06 11:34:37 -0500 (Thu, 06 Nov 2025) EllapsedTime: 45.7 seconds RetCode: 0 Status: OK PackageFile: nullrangesData_1.16.0.tar.gz PackageFileSize: 4.148 MiB