Package: nmrdata Version: 1.0.0 Command: /home/biocbuild/bbs-3.22-bioc/R/bin/R CMD INSTALL nmrdata StartedAt: 2025-11-06 10:56:45 -0500 (Thu, 06 Nov 2025) EndedAt: 2025-11-06 10:56:47 -0500 (Thu, 06 Nov 2025) EllapsedTime: 1.4 seconds RetCode: 0 Status: OK