Package: mvoutData Version: 1.46.0 Command: /home/biocbuild/bbs-3.22-bioc/R/bin/R CMD INSTALL mvoutData StartedAt: 2025-11-06 11:03:00 -0500 (Thu, 06 Nov 2025) EndedAt: 2025-11-06 11:03:31 -0500 (Thu, 06 Nov 2025) EllapsedTime: 30.8 seconds RetCode: 0 Status: OK