Package: muscData Version: 1.24.0 Command: /home/biocbuild/bbs-3.22-bioc/R/bin/R CMD INSTALL muscData StartedAt: 2025-11-06 11:00:26 -0500 (Thu, 06 Nov 2025) EndedAt: 2025-11-06 11:00:54 -0500 (Thu, 06 Nov 2025) EllapsedTime: 27.7 seconds RetCode: 0 Status: OK