Package: multiWGCNAdata Version: 1.8.0 Command: /home/biocbuild/bbs-3.22-bioc/R/bin/R CMD INSTALL multiWGCNAdata StartedAt: 2025-11-06 10:57:30 -0500 (Thu, 06 Nov 2025) EndedAt: 2025-11-06 10:57:38 -0500 (Thu, 06 Nov 2025) EllapsedTime: 8.8 seconds RetCode: 0 Status: OK