Package: muleaData Version: 1.6.0 Command: /home/biocbuild/bbs-3.22-bioc/R/bin/R CMD INSTALL muleaData StartedAt: 2025-11-06 10:55:32 -0500 (Thu, 06 Nov 2025) EndedAt: 2025-11-06 10:55:33 -0500 (Thu, 06 Nov 2025) EllapsedTime: 1.8 seconds RetCode: 0 Status: OK