Package: muleaData Version: 1.6.0 Command: /home/biocbuild/bbs-3.22-bioc/R/bin/R CMD build --keep-empty-dirs --no-resave-data muleaData StartedAt: 2025-11-06 11:32:24 -0500 (Thu, 06 Nov 2025) EndedAt: 2025-11-06 11:32:34 -0500 (Thu, 06 Nov 2025) EllapsedTime: 9.7 seconds RetCode: 0 Status: OK PackageFile: muleaData_1.6.0.tar.gz PackageFileSize: 40.98 KiB