Package: mtbls2 Version: 1.40.0 Command: /home/biocbuild/bbs-3.22-bioc/R/bin/R CMD INSTALL mtbls2 StartedAt: 2025-11-06 10:55:37 -0500 (Thu, 06 Nov 2025) EndedAt: 2025-11-06 10:56:14 -0500 (Thu, 06 Nov 2025) EllapsedTime: 37.1 seconds RetCode: 0 Status: OK