Package: mtbls2 Version: 1.40.0 Command: /home/biocbuild/bbs-3.22-bioc/R/bin/R CMD build --keep-empty-dirs --no-resave-data mtbls2 StartedAt: 2025-11-06 11:32:15 -0500 (Thu, 06 Nov 2025) EndedAt: 2025-11-06 11:33:31 -0500 (Thu, 06 Nov 2025) EllapsedTime: 76.5 seconds RetCode: 0 Status: OK PackageFile: mtbls2_1.40.0.tar.gz PackageFileSize: 183.1 MiB