Package: mtbls2 Version: 1.40.0 Maintainer: Steffen Neumann MaintainerEmail: sneumann at ipb-halle.de git_url: https://git.bioconductor.org/packages/mtbls2 git_branch: RELEASE_3_22 git_last_commit: 78b9c59 git_last_commit_date: 2025-10-29 09:57:00 -0500 (Wed, 29 Oct 2025)