Package: msigdb Version: 1.18.0 Command: /home/biocbuild/bbs-3.22-bioc/R/bin/R CMD build --keep-empty-dirs --no-resave-data msigdb StartedAt: 2025-11-06 11:31:34 -0500 (Thu, 06 Nov 2025) EndedAt: 2025-11-06 11:39:29 -0500 (Thu, 06 Nov 2025) EllapsedTime: 474.6 seconds RetCode: 0 Status: OK PackageFile: msigdb_1.18.0.tar.gz PackageFileSize: 304.8 KiB