Package: msdata Version: 0.50.0 Command: /home/biocbuild/bbs-3.22-bioc/R/bin/R CMD build --keep-empty-dirs --no-resave-data msdata StartedAt: 2025-11-06 11:31:26 -0500 (Thu, 06 Nov 2025) EndedAt: 2025-11-06 11:32:21 -0500 (Thu, 06 Nov 2025) EllapsedTime: 54.6 seconds RetCode: 0 Status: OK PackageFile: msdata_0.50.0.tar.gz PackageFileSize: 426.4 MiB