Package: msd16s Version: 1.30.0 Maintainer: Joseph N. Paulson MaintainerEmail: jpaulson at umiacs.umd.edu git_url: https://git.bioconductor.org/packages/msd16s git_branch: RELEASE_3_22 git_last_commit: ace6bd3 git_last_commit_date: 2025-10-29 09:55:12 -0500 (Wed, 29 Oct 2025)