Package: msPurityData Version: 1.38.0 Command: /home/biocbuild/bbs-3.22-bioc/R/bin/R CMD build --keep-empty-dirs --no-resave-data msPurityData StartedAt: 2025-11-06 11:31:40 -0500 (Thu, 06 Nov 2025) EndedAt: 2025-11-06 11:34:06 -0500 (Thu, 06 Nov 2025) EllapsedTime: 146.3 seconds RetCode: 0 Status: OK PackageFile: msPurityData_1.38.0.tar.gz PackageFileSize: 233.5 MiB