Package: mouse4302barcodevecs Version: 1.48.0 Command: /home/biocbuild/bbs-3.22-bioc/R/bin/R CMD INSTALL mouse4302barcodevecs StartedAt: 2025-11-25 10:55:19 -0500 (Tue, 25 Nov 2025) EndedAt: 2025-11-25 10:55:22 -0500 (Tue, 25 Nov 2025) EllapsedTime: 2.3 seconds RetCode: 0 Status: OK