Package: minionSummaryData Version: 1.40.0 Command: /home/biocbuild/bbs-3.22-bioc/R/bin/R CMD build --keep-empty-dirs --no-resave-data minionSummaryData StartedAt: 2025-11-06 11:30:44 -0500 (Thu, 06 Nov 2025) EndedAt: 2025-11-06 11:30:56 -0500 (Thu, 06 Nov 2025) EllapsedTime: 12.2 seconds RetCode: 0 Status: OK PackageFile: minionSummaryData_1.40.0.tar.gz PackageFileSize: 134.7 MiB