Package: minfiDataEPIC Version: 1.36.0 Command: /home/biocbuild/bbs-3.22-bioc/R/bin/R CMD INSTALL minfiDataEPIC StartedAt: 2025-11-06 11:01:46 -0500 (Thu, 06 Nov 2025) EndedAt: 2025-11-06 11:02:33 -0500 (Thu, 06 Nov 2025) EllapsedTime: 47.4 seconds RetCode: 0 Status: OK