Package: minfiDataEPIC Version: 1.36.0 Command: /home/biocbuild/bbs-3.22-bioc/R/bin/R CMD check --install=check:minfiDataEPIC.install-out.txt --library=/home/biocbuild/bbs-3.22-bioc/R/site-library --timings minfiDataEPIC_1.36.0.tar.gz StartedAt: 2025-11-20 12:52:51 -0500 (Thu, 20 Nov 2025) EndedAt: 2025-11-20 12:55:58 -0500 (Thu, 20 Nov 2025) EllapsedTime: 187.9 seconds RetCode: 0 Status: WARNINGS CheckDir: minfiDataEPIC.Rcheck Warnings: 1