Package: minfiDataEPIC Version: 1.36.0 Command: /home/biocbuild/bbs-3.22-bioc/R/bin/R CMD build --keep-empty-dirs --no-resave-data minfiDataEPIC StartedAt: 2025-11-06 11:30:33 -0500 (Thu, 06 Nov 2025) EndedAt: 2025-11-06 11:30:44 -0500 (Thu, 06 Nov 2025) EllapsedTime: 11.0 seconds RetCode: 0 Status: OK PackageFile: minfiDataEPIC_1.36.0.tar.gz PackageFileSize: 69.26 MiB