Package: minfiData Version: 0.56.0 Maintainer: Kasper Daniel Hansen MaintainerEmail: kasperdanielhansen at gmail.com git_url: https://git.bioconductor.org/packages/minfiData git_branch: RELEASE_3_22 git_last_commit: 7e79eee git_last_commit_date: 2025-10-29 09:32:41 -0500 (Wed, 29 Oct 2025)