Package: microbiomeDataSets Version: 1.18.0 Command: /home/biocbuild/bbs-3.22-bioc/R/bin/R CMD INSTALL microbiomeDataSets StartedAt: 2025-11-06 11:01:13 -0500 (Thu, 06 Nov 2025) EndedAt: 2025-11-06 11:01:45 -0500 (Thu, 06 Nov 2025) EllapsedTime: 31.8 seconds RetCode: 0 Status: OK