Package: microbiomeDataSets Version: 1.16.0 Command: /home/biocbuild/bbs-3.21-bioc/R/bin/R CMD INSTALL microbiomeDataSets StartedAt: 2025-10-02 11:02:32 -0400 (Thu, 02 Oct 2025) EndedAt: 2025-10-02 11:03:04 -0400 (Thu, 02 Oct 2025) EllapsedTime: 31.8 seconds RetCode: 0 Status: OK