Package: microbiomeDataSets Version: 1.16.0 Command: /home/biocbuild/bbs-3.21-bioc/R/bin/R CMD build --keep-empty-dirs --no-resave-data microbiomeDataSets StartedAt: 2025-10-02 11:29:18 -0400 (Thu, 02 Oct 2025) EndedAt: 2025-10-02 11:30:02 -0400 (Thu, 02 Oct 2025) EllapsedTime: 43.5 seconds RetCode: 0 Status: OK PackageFile: microbiomeDataSets_1.16.0.tar.gz PackageFileSize: 235 KiB