Package: miRcompData Version: 1.40.0 Command: /home/biocbuild/bbs-3.22-bioc/R/bin/R CMD INSTALL miRcompData StartedAt: 2025-11-06 10:55:14 -0500 (Thu, 06 Nov 2025) EndedAt: 2025-11-06 10:55:16 -0500 (Thu, 06 Nov 2025) EllapsedTime: 1.8 seconds RetCode: 0 Status: OK