Package: miRcompData Version: 1.40.0 Command: /home/biocbuild/bbs-3.22-bioc/R/bin/R CMD build --keep-empty-dirs --no-resave-data miRcompData StartedAt: 2025-11-06 11:30:46 -0500 (Thu, 06 Nov 2025) EndedAt: 2025-11-06 11:30:48 -0500 (Thu, 06 Nov 2025) EllapsedTime: 2.0 seconds RetCode: 0 Status: OK PackageFile: miRcompData_1.40.0.tar.gz PackageFileSize: 8.654 MiB