Package: miRcompData Version: 1.40.0 Maintainer: Matthew N. McCall MaintainerEmail: mccallm at gmail.com git_url: https://git.bioconductor.org/packages/miRcompData git_branch: RELEASE_3_22 git_last_commit: b216de5 git_last_commit_date: 2025-10-29 09:57:12 -0500 (Wed, 29 Oct 2025)