Package: miRNATarget Version: 1.48.0 Command: /home/biocbuild/bbs-3.22-bioc/R/bin/R CMD build --keep-empty-dirs --no-resave-data miRNATarget StartedAt: 2025-11-13 11:31:30 -0500 (Thu, 13 Nov 2025) EndedAt: 2025-11-13 11:31:42 -0500 (Thu, 13 Nov 2025) EllapsedTime: 11.8 seconds RetCode: 0 Status: OK PackageFile: miRNATarget_1.48.0.tar.gz PackageFileSize: 51.86 MiB