Package: methylclockData Version: 1.18.0 Command: /home/biocbuild/bbs-3.22-bioc/R/bin/R CMD build --keep-empty-dirs --no-resave-data methylclockData StartedAt: 2025-11-06 11:30:11 -0500 (Thu, 06 Nov 2025) EndedAt: 2025-11-06 11:31:26 -0500 (Thu, 06 Nov 2025) EllapsedTime: 74.7 seconds RetCode: 0 Status: OK PackageFile: methylclockData_1.18.0.tar.gz PackageFileSize: 230.7 KiB