Package: metaMSdata Version: 1.46.0 Command: /home/biocbuild/bbs-3.22-bioc/R/bin/R CMD INSTALL metaMSdata StartedAt: 2025-11-06 10:55:38 -0500 (Thu, 06 Nov 2025) EndedAt: 2025-11-06 10:55:39 -0500 (Thu, 06 Nov 2025) EllapsedTime: 1.0 seconds RetCode: 0 Status: OK