Package: mcsurvdata Version: 1.28.0 Command: /home/biocbuild/bbs-3.22-bioc/R/bin/R CMD INSTALL mcsurvdata StartedAt: 2025-11-06 10:56:37 -0500 (Thu, 06 Nov 2025) EndedAt: 2025-11-06 10:56:46 -0500 (Thu, 06 Nov 2025) EllapsedTime: 8.9 seconds RetCode: 0 Status: OK