Package: mcsurvdata Version: 1.28.0 Command: /home/biocbuild/bbs-3.22-bioc/R/bin/R CMD build --keep-empty-dirs --no-resave-data mcsurvdata StartedAt: 2025-11-06 11:28:43 -0500 (Thu, 06 Nov 2025) EndedAt: 2025-11-06 11:29:10 -0500 (Thu, 06 Nov 2025) EllapsedTime: 27.1 seconds RetCode: 0 Status: OK PackageFile: mcsurvdata_1.28.0.tar.gz PackageFileSize: 229.5 KiB