Package: marinerData Version: 1.10.0 Command: /home/biocbuild/bbs-3.22-bioc/R/bin/R CMD INSTALL marinerData StartedAt: 2025-11-25 10:56:49 -0500 (Tue, 25 Nov 2025) EndedAt: 2025-11-25 10:57:05 -0500 (Tue, 25 Nov 2025) EllapsedTime: 15.3 seconds RetCode: 0 Status: OK