Package: macrophage Version: 1.26.0 Command: /home/biocbuild/bbs-3.22-bioc/R/bin/R CMD build --keep-empty-dirs --no-resave-data macrophage StartedAt: 2025-11-25 11:27:31 -0500 (Tue, 25 Nov 2025) EndedAt: 2025-11-25 11:28:07 -0500 (Tue, 25 Nov 2025) EllapsedTime: 36.5 seconds RetCode: 0 Status: OK PackageFile: macrophage_1.26.0.tar.gz PackageFileSize: 511.4 MiB