Package: mCSEAdata Version: 1.30.0 Command: /home/biocbuild/bbs-3.22-bioc/R/bin/R CMD INSTALL mCSEAdata StartedAt: 2025-11-06 10:57:55 -0500 (Thu, 06 Nov 2025) EndedAt: 2025-11-06 10:59:40 -0500 (Thu, 06 Nov 2025) EllapsedTime: 104.9 seconds RetCode: 0 Status: OK