Package: lydata Version: 1.36.0 Command: /home/biocbuild/bbs-3.22-bioc/R/bin/R CMD build --keep-empty-dirs --no-resave-data lydata StartedAt: 2025-11-06 11:27:27 -0500 (Thu, 06 Nov 2025) EndedAt: 2025-11-06 11:30:10 -0500 (Thu, 06 Nov 2025) EllapsedTime: 163.2 seconds RetCode: 0 Status: OK PackageFile: lydata_1.36.0.tar.gz PackageFileSize: 158.9 MiB