Package: lungExpression Version: 0.48.0 Command: /home/biocbuild/bbs-3.22-bioc/R/bin/R CMD INSTALL lungExpression StartedAt: 2025-11-06 10:56:02 -0500 (Thu, 06 Nov 2025) EndedAt: 2025-11-06 10:56:04 -0500 (Thu, 06 Nov 2025) EllapsedTime: 2.1 seconds RetCode: 0 Status: OK