Package: lungExpression Version: 0.46.0 Command: /home/biocbuild/bbs-3.21-bioc/R/bin/R CMD INSTALL lungExpression StartedAt: 2025-09-30 10:56:08 -0400 (Tue, 30 Sep 2025) EndedAt: 2025-09-30 10:56:11 -0400 (Tue, 30 Sep 2025) EllapsedTime: 3.1 seconds RetCode: 0 Status: OK