Package: lungExpression Version: 0.46.0 Command: /home/biocbuild/bbs-3.21-bioc/R/bin/R CMD build --keep-empty-dirs --no-resave-data lungExpression StartedAt: 2025-09-30 11:25:45 -0400 (Tue, 30 Sep 2025) EndedAt: 2025-09-30 11:25:46 -0400 (Tue, 30 Sep 2025) EllapsedTime: 1.0 seconds RetCode: 0 Status: OK PackageFile: lungExpression_0.46.0.tar.gz PackageFileSize: 5.681 MiB