Package: leeBamViews Version: 1.46.0 Command: /home/biocbuild/bbs-3.22-bioc/R/bin/R CMD build --keep-empty-dirs --no-resave-data leeBamViews StartedAt: 2025-11-06 11:26:23 -0500 (Thu, 06 Nov 2025) EndedAt: 2025-11-06 11:27:23 -0500 (Thu, 06 Nov 2025) EllapsedTime: 59.9 seconds RetCode: 0 Status: OK PackageFile: leeBamViews_1.46.0.tar.gz PackageFileSize: 11.05 MiB