Package: kidpack Version: 1.52.0 Command: /home/biocbuild/bbs-3.22-bioc/R/bin/R CMD INSTALL kidpack StartedAt: 2025-11-06 10:56:08 -0500 (Thu, 06 Nov 2025) EndedAt: 2025-11-06 10:56:13 -0500 (Thu, 06 Nov 2025) EllapsedTime: 5.1 seconds RetCode: 0 Status: OK