Package: imcdatasets Version: 1.18.0 Command: /home/biocbuild/bbs-3.22-bioc/R/bin/R CMD INSTALL imcdatasets StartedAt: 2025-11-06 10:59:30 -0500 (Thu, 06 Nov 2025) EndedAt: 2025-11-06 11:00:21 -0500 (Thu, 06 Nov 2025) EllapsedTime: 50.8 seconds RetCode: 0 Status: OK