Package: imcdatasets Version: 1.18.0 Command: /home/biocbuild/bbs-3.22-bioc/R/bin/R CMD check --install=check:imcdatasets.install-out.txt --library=/home/biocbuild/bbs-3.22-bioc/R/site-library --timings imcdatasets_1.18.0.tar.gz StartedAt: 2025-11-06 12:31:59 -0500 (Thu, 06 Nov 2025) EndedAt: 2025-11-06 12:48:44 -0500 (Thu, 06 Nov 2025) EllapsedTime: 1004.9 seconds RetCode: 0 Status: OK CheckDir: imcdatasets.Rcheck Warnings: 0